BEGIN:VCALENDAR
VERSION:2.0
PRODID:-//City of Glen Cove - ECPv6.15.17.1//NONSGML v1.0//EN
CALSCALE:GREGORIAN
METHOD:PUBLISH
X-ORIGINAL-URL:https://glencoveny.gov
X-WR-CALDESC:Events for City of Glen Cove
REFRESH-INTERVAL;VALUE=DURATION:PT1H
X-Robots-Tag:noindex
X-PUBLISHED-TTL:PT1H
BEGIN:VTIMEZONE
TZID:America/New_York
BEGIN:DAYLIGHT
TZOFFSETFROM:-0500
TZOFFSETTO:-0400
TZNAME:EDT
DTSTART:20220313T070000
END:DAYLIGHT
BEGIN:STANDARD
TZOFFSETFROM:-0400
TZOFFSETTO:-0500
TZNAME:EST
DTSTART:20221106T060000
END:STANDARD
BEGIN:DAYLIGHT
TZOFFSETFROM:-0500
TZOFFSETTO:-0400
TZNAME:EDT
DTSTART:20230312T070000
END:DAYLIGHT
BEGIN:STANDARD
TZOFFSETFROM:-0400
TZOFFSETTO:-0500
TZNAME:EST
DTSTART:20231105T060000
END:STANDARD
BEGIN:DAYLIGHT
TZOFFSETFROM:-0500
TZOFFSETTO:-0400
TZNAME:EDT
DTSTART:20240310T070000
END:DAYLIGHT
BEGIN:STANDARD
TZOFFSETFROM:-0400
TZOFFSETTO:-0500
TZNAME:EST
DTSTART:20241103T060000
END:STANDARD
END:VTIMEZONE
BEGIN:VEVENT
DTSTART;TZID=America/New_York:20230404T183000
DTEND;TZID=America/New_York:20230404T183000
DTSTAMP:20260422T021825
CREATED:20230130T225203Z
LAST-MODIFIED:20230130T225203Z
UID:10000358-1680633000-1680633000@glencoveny.gov
SUMMARY:Pre-Council Meeting
DESCRIPTION:
URL:https://glencoveny.gov/event/pre-council-meeting-9/2023-04-04
CATEGORIES:City Council
END:VEVENT
BEGIN:VEVENT
DTSTART;TZID=America/New_York:20230411T180000
DTEND;TZID=America/New_York:20230411T180000
DTSTAMP:20260422T021825
CREATED:20230405T164158Z
LAST-MODIFIED:20230405T164158Z
UID:10000403-1681236000-1681236000@glencoveny.gov
SUMMARY:Glen Cove IDA/LEAC Board Meeting
DESCRIPTION:City Hall 2nd floor conference room \n*Meeting will be streamed in real-time and recording of the meeting will be posted on the Agency’s website at http://glencoveida.org/meeting-livestream/
URL:https://glencoveny.gov/event/glen-cove-ida-leac-board-meeting-3
CATEGORIES:IDA/LEAC
END:VEVENT
BEGIN:VEVENT
DTSTART;TZID=America/New_York:20230411T193000
DTEND;TZID=America/New_York:20230411T193000
DTSTAMP:20260422T021825
CREATED:20230130T225456Z
LAST-MODIFIED:20230130T225456Z
UID:10000378-1681241400-1681241400@glencoveny.gov
SUMMARY:Council Meeting
DESCRIPTION:
URL:https://glencoveny.gov/event/council-meeting/2023-04-11
CATEGORIES:City Council
END:VEVENT
BEGIN:VEVENT
DTSTART;TZID=America/New_York:20230418T183000
DTEND;TZID=America/New_York:20230418T183000
DTSTAMP:20260422T021825
CREATED:20230130T225203Z
LAST-MODIFIED:20230130T225203Z
UID:10000359-1681842600-1681842600@glencoveny.gov
SUMMARY:Pre-Council Meeting
DESCRIPTION:
URL:https://glencoveny.gov/event/pre-council-meeting-9/2023-04-18
CATEGORIES:City Council
END:VEVENT
BEGIN:VEVENT
DTSTART;TZID=America/New_York:20230418T190000
DTEND;TZID=America/New_York:20230418T190000
DTSTAMP:20260422T021825
CREATED:20230414T195100Z
LAST-MODIFIED:20230414T195100Z
UID:10000402-1681844400-1681844400@glencoveny.gov
SUMMARY:Planning Board Meeti..
DESCRIPTION:
URL:https://glencoveny.gov/event/planning-board-meeti
END:VEVENT
BEGIN:VEVENT
DTSTART;TZID=America/New_York:20230420T190000
DTEND;TZID=America/New_York:20230420T190000
DTSTAMP:20260422T021825
CREATED:20230414T195224Z
LAST-MODIFIED:20230414T195224Z
UID:10000405-1682017200-1682017200@glencoveny.gov
SUMMARY:Board of Zoning Appeals
DESCRIPTION:
URL:https://glencoveny.gov/event/board-of-zoning-appeals
END:VEVENT
BEGIN:VEVENT
DTSTART;TZID=America/New_York:20230425T193000
DTEND;TZID=America/New_York:20230425T193000
DTSTAMP:20260422T021825
CREATED:20230130T225456Z
LAST-MODIFIED:20230130T225456Z
UID:10000379-1682451000-1682451000@glencoveny.gov
SUMMARY:Council Meeting
DESCRIPTION:
URL:https://glencoveny.gov/event/council-meeting/2023-04-25
CATEGORIES:City Council
END:VEVENT
END:VCALENDAR