BEGIN:VCALENDAR
VERSION:2.0
PRODID:-//City of Glen Cove - ECPv6.15.17.1//NONSGML v1.0//EN
CALSCALE:GREGORIAN
METHOD:PUBLISH
X-ORIGINAL-URL:https://glencoveny.gov
X-WR-CALDESC:Events for City of Glen Cove
REFRESH-INTERVAL;VALUE=DURATION:PT1H
X-Robots-Tag:noindex
X-PUBLISHED-TTL:PT1H
BEGIN:VTIMEZONE
TZID:America/New_York
BEGIN:DAYLIGHT
TZOFFSETFROM:-0500
TZOFFSETTO:-0400
TZNAME:EDT
DTSTART:20230312T070000
END:DAYLIGHT
BEGIN:STANDARD
TZOFFSETFROM:-0400
TZOFFSETTO:-0500
TZNAME:EST
DTSTART:20231105T060000
END:STANDARD
BEGIN:DAYLIGHT
TZOFFSETFROM:-0500
TZOFFSETTO:-0400
TZNAME:EDT
DTSTART:20240310T070000
END:DAYLIGHT
BEGIN:STANDARD
TZOFFSETFROM:-0400
TZOFFSETTO:-0500
TZNAME:EST
DTSTART:20241103T060000
END:STANDARD
BEGIN:DAYLIGHT
TZOFFSETFROM:-0500
TZOFFSETTO:-0400
TZNAME:EDT
DTSTART:20250309T070000
END:DAYLIGHT
BEGIN:STANDARD
TZOFFSETFROM:-0400
TZOFFSETTO:-0500
TZNAME:EST
DTSTART:20251102T060000
END:STANDARD
END:VTIMEZONE
BEGIN:VEVENT
DTSTART;TZID=America/New_York:20240917T183000
DTEND;TZID=America/New_York:20240917T183000
DTSTAMP:20260421T092430
CREATED:20240111T143119Z
LAST-MODIFIED:20240111T143418Z
UID:10000758-1726597800-1726597800@glencoveny.gov
SUMMARY:Pre-Council Meeting
DESCRIPTION:
URL:https://glencoveny.gov/event/pre-council-meeting-24
CATEGORIES:City Council
END:VEVENT
BEGIN:VEVENT
DTSTART;TZID=America/New_York:20240917T193000
DTEND;TZID=America/New_York:20240917T203000
DTSTAMP:20260421T092430
CREATED:20240917T201314Z
LAST-MODIFIED:20250910T170806Z
UID:10000930-1726601400-1726605000@glencoveny.gov
SUMMARY:Planning Board Meeting
DESCRIPTION:Please note the Planning Board meetings occur on the first and third Tuesday of each month\, unless otherwise specified. Please note all date and end times are tentative. Meetings of the Planning Board are conducted in the Main Chambers\, City Hall 9 Glen Street\, Glen Cove\, NY.
URL:https://glencoveny.gov/event/planning-board-meeting-cancelled-6/2024-09-17
CATEGORIES:Planning Board
END:VEVENT
BEGIN:VEVENT
DTSTART;TZID=America/New_York:20240919T193000
DTEND;TZID=America/New_York:20240919T203000
DTSTAMP:20260421T092430
CREATED:20240918T151239Z
LAST-MODIFIED:20240918T151239Z
UID:10000931-1726774200-1726777800@glencoveny.gov
SUMMARY:Board of Zoning Appeals
DESCRIPTION:CITY OF GLEN COVE\nCity Hall\, 9 Glen Street\, Glen Cove\, NY 11542\nBOARD OF ZONING APPEALS\nTHURSDAY\, SEPTEMBER 19\, 2024\nAGENDA
URL:https://glencoveny.gov/event/board-of-zoning-appeals-8
END:VEVENT
BEGIN:VEVENT
DTSTART;TZID=America/New_York:20240924T173000
DTEND;TZID=America/New_York:20240924T173000
DTSTAMP:20260421T092430
CREATED:20240911T204511Z
LAST-MODIFIED:20240911T204511Z
UID:10000928-1727199000-1727199000@glencoveny.gov
SUMMARY:CDA Board Meeting
DESCRIPTION:
URL:https://glencoveny.gov/event/cda-board-meeting-3
CATEGORIES:CDA
END:VEVENT
BEGIN:VEVENT
DTSTART;TZID=America/New_York:20240924T181500
DTEND;TZID=America/New_York:20240924T181500
DTSTAMP:20260421T092430
CREATED:20240911T204544Z
LAST-MODIFIED:20240911T204645Z
UID:10000929-1727201700-1727201700@glencoveny.gov
SUMMARY:IDA/LEAC Board Mtg
DESCRIPTION:IDA/LEAC public meetings are livestreamed via the following link and a recording of the meetings will be published the following day on our website: \n  \nhttps://glencoveida.org/meeting-livestream/ \n 
URL:https://glencoveny.gov/event/ida-leac-board-mtg
CATEGORIES:IDA/LEAC
END:VEVENT
BEGIN:VEVENT
DTSTART;TZID=America/New_York:20240924T193000
DTEND;TZID=America/New_York:20240924T193000
DTSTAMP:20260421T092430
CREATED:20240111T144157Z
LAST-MODIFIED:20240111T144157Z
UID:10000779-1727206200-1727206200@glencoveny.gov
SUMMARY:Council Meeting
DESCRIPTION:
URL:https://glencoveny.gov/event/council-meeting-16
CATEGORIES:City Council
END:VEVENT
END:VCALENDAR