BEGIN:VCALENDAR
VERSION:2.0
PRODID:-//City of Glen Cove - ECPv6.15.17.1//NONSGML v1.0//EN
CALSCALE:GREGORIAN
METHOD:PUBLISH
X-WR-CALNAME:City of Glen Cove
X-ORIGINAL-URL:https://glencoveny.gov
X-WR-CALDESC:Events for City of Glen Cove
REFRESH-INTERVAL;VALUE=DURATION:PT1H
X-Robots-Tag:noindex
X-PUBLISHED-TTL:PT1H
BEGIN:VTIMEZONE
TZID:America/New_York
BEGIN:DAYLIGHT
TZOFFSETFROM:-0500
TZOFFSETTO:-0400
TZNAME:EDT
DTSTART:20230312T070000
END:DAYLIGHT
BEGIN:STANDARD
TZOFFSETFROM:-0400
TZOFFSETTO:-0500
TZNAME:EST
DTSTART:20231105T060000
END:STANDARD
BEGIN:DAYLIGHT
TZOFFSETFROM:-0500
TZOFFSETTO:-0400
TZNAME:EDT
DTSTART:20240310T070000
END:DAYLIGHT
BEGIN:STANDARD
TZOFFSETFROM:-0400
TZOFFSETTO:-0500
TZNAME:EST
DTSTART:20241103T060000
END:STANDARD
BEGIN:DAYLIGHT
TZOFFSETFROM:-0500
TZOFFSETTO:-0400
TZNAME:EDT
DTSTART:20250309T070000
END:DAYLIGHT
BEGIN:STANDARD
TZOFFSETFROM:-0400
TZOFFSETTO:-0500
TZNAME:EST
DTSTART:20251102T060000
END:STANDARD
END:VTIMEZONE
BEGIN:VEVENT
DTSTART;TZID=America/New_York:20241001T183000
DTEND;TZID=America/New_York:20241001T183000
DTSTAMP:20260421T112927
CREATED:20240111T143142Z
LAST-MODIFIED:20240111T143418Z
UID:10000759-1727807400-1727807400@glencoveny.gov
SUMMARY:Pre-Council Meeting
DESCRIPTION:
URL:https://glencoveny.gov/event/pre-council-meeting-25
CATEGORIES:City Council
END:VEVENT
BEGIN:VEVENT
DTSTART;TZID=America/New_York:20241008T180000
DTEND;TZID=America/New_York:20241008T180000
DTSTAMP:20260421T112927
CREATED:20241001T183806Z
LAST-MODIFIED:20241001T184007Z
UID:10000932-1728410400-1728410400@glencoveny.gov
SUMMARY:Cancelled - CDA Meeting
DESCRIPTION:Please be advised that the Glen Cove Community Development Agency regularly scheduled board meeting\non Tuesday\, 10/8/24 is CANCELLED. \nThe next regularly scheduled CDA board meeting is Tuesday\, 11/26/24 at 6:00 P.M. Should the need arise\nto schedule a special meeting prior to that time\, we will poll the CDA board members for a mutually\nconvenient date. \nThank you for your cooperation.
URL:https://glencoveny.gov/event/cda-meeting-4
LOCATION:City Hall Main Chambers
CATEGORIES:CDA
END:VEVENT
BEGIN:VEVENT
DTSTART;TZID=America/New_York:20241008T193000
DTEND;TZID=America/New_York:20241008T193000
DTSTAMP:20260421T112927
CREATED:20240111T144215Z
LAST-MODIFIED:20240111T144215Z
UID:10000780-1728415800-1728415800@glencoveny.gov
SUMMARY:Council Meeting
DESCRIPTION:
URL:https://glencoveny.gov/event/council-meeting-17
CATEGORIES:City Council
END:VEVENT
BEGIN:VEVENT
DTSTART;VALUE=DATE:20241014
DTEND;VALUE=DATE:20241015
DTSTAMP:20260421T112927
CREATED:20240806T161256Z
LAST-MODIFIED:20240806T161717Z
UID:10000916-1728864000-1728950399@glencoveny.gov
SUMMARY:Holiday
DESCRIPTION:City Hall Closed for Columbus Day
URL:https://glencoveny.gov/event/holiday
LOCATION:City Hall\, 9 Glen Street\, Glen Cove\, NY\, 11542\, United States
CATEGORIES:Holiday
END:VEVENT
BEGIN:VEVENT
DTSTART;TZID=America/New_York:20241015T183000
DTEND;TZID=America/New_York:20241015T183000
DTSTAMP:20260421T112927
CREATED:20240111T143204Z
LAST-MODIFIED:20240111T143418Z
UID:10000760-1729017000-1729017000@glencoveny.gov
SUMMARY:Pre-Council Meeting
DESCRIPTION:
URL:https://glencoveny.gov/event/pre-council-meeting-26
CATEGORIES:City Council
END:VEVENT
BEGIN:VEVENT
DTSTART;TZID=America/New_York:20241015T193000
DTEND;TZID=America/New_York:20241015T203000
DTSTAMP:20260421T112927
CREATED:20241010T203958Z
LAST-MODIFIED:20250910T170758Z
UID:10000933-1729020600-1729024200@glencoveny.gov
SUMMARY:Planning Board Meeting
DESCRIPTION:Please note that the Planning Board meetings occur on the first and third Tuesday of each month\, unless otherwise specified. Meetings of the Planning Board are conducted in the Main Chambers\, City Hall 9 Glen Street\, Glen Cove\, NY.
URL:https://glencoveny.gov/event/planning-board-meeting-24/2024-10-15
LOCATION:City Hall Main Chambers
END:VEVENT
BEGIN:VEVENT
DTSTART;TZID=America/New_York:20241022T193000
DTEND;TZID=America/New_York:20241022T193000
DTSTAMP:20260421T112927
CREATED:20240111T144234Z
LAST-MODIFIED:20240111T144234Z
UID:10000781-1729625400-1729625400@glencoveny.gov
SUMMARY:Council Meeting
DESCRIPTION:
URL:https://glencoveny.gov/event/council-meeting-18
CATEGORIES:City Council
END:VEVENT
BEGIN:VEVENT
DTSTART;TZID=America/New_York:20241031T170000
DTEND;TZID=America/New_York:20241031T180000
DTSTAMP:20260421T112927
CREATED:20241030T163440Z
LAST-MODIFIED:20241030T163440Z
UID:10000944-1730394000-1730397600@glencoveny.gov
SUMMARY:Planning Board Meeting
DESCRIPTION:Please note that the Planning Board meetings occur on the first and third Tuesday of each month\, unless otherwise specified. Meetings of the Planning Board are conducted in the Main Chambers\, City Hall 9 Glen Street\, Glen Cove\, NY.
URL:https://glencoveny.gov/event/planning-board-meeting-29
CATEGORIES:Planning Board
END:VEVENT
END:VCALENDAR