BEGIN:VCALENDAR
VERSION:2.0
PRODID:-//City of Glen Cove - ECPv6.15.17.1//NONSGML v1.0//EN
CALSCALE:GREGORIAN
METHOD:PUBLISH
X-ORIGINAL-URL:https://glencoveny.gov
X-WR-CALDESC:Events for City of Glen Cove
REFRESH-INTERVAL;VALUE=DURATION:PT1H
X-Robots-Tag:noindex
X-PUBLISHED-TTL:PT1H
BEGIN:VTIMEZONE
TZID:America/New_York
BEGIN:DAYLIGHT
TZOFFSETFROM:-0500
TZOFFSETTO:-0400
TZNAME:EDT
DTSTART:20230312T070000
END:DAYLIGHT
BEGIN:STANDARD
TZOFFSETFROM:-0400
TZOFFSETTO:-0500
TZNAME:EST
DTSTART:20231105T060000
END:STANDARD
BEGIN:DAYLIGHT
TZOFFSETFROM:-0500
TZOFFSETTO:-0400
TZNAME:EDT
DTSTART:20240310T070000
END:DAYLIGHT
BEGIN:STANDARD
TZOFFSETFROM:-0400
TZOFFSETTO:-0500
TZNAME:EST
DTSTART:20241103T060000
END:STANDARD
BEGIN:DAYLIGHT
TZOFFSETFROM:-0500
TZOFFSETTO:-0400
TZNAME:EDT
DTSTART:20250309T070000
END:DAYLIGHT
BEGIN:STANDARD
TZOFFSETFROM:-0400
TZOFFSETTO:-0500
TZNAME:EST
DTSTART:20251102T060000
END:STANDARD
END:VTIMEZONE
BEGIN:VEVENT
DTSTART;VALUE=DATE:20241105
DTEND;VALUE=DATE:20241106
DTSTAMP:20260421T131341
CREATED:20240806T161825Z
LAST-MODIFIED:20240806T161825Z
UID:10000917-1730764800-1730851199@glencoveny.gov
SUMMARY:Holiday
DESCRIPTION:City Hall Closed for Election Day
URL:https://glencoveny.gov/event/holiday-2
LOCATION:City Hall\, 9 Glen Street\, Glen Cove\, NY\, 11542\, United States
END:VEVENT
BEGIN:VEVENT
DTSTART;TZID=America/New_York:20241106T183000
DTEND;TZID=America/New_York:20241106T183000
DTSTAMP:20260421T131341
CREATED:20240111T143228Z
LAST-MODIFIED:20240111T143417Z
UID:10000761-1730917800-1730917800@glencoveny.gov
SUMMARY:Pre-Council Meeting
DESCRIPTION:
URL:https://glencoveny.gov/event/pre-council-meeting-27
CATEGORIES:City Council
END:VEVENT
BEGIN:VEVENT
DTSTART;TZID=America/New_York:20241112T180000
DTEND;TZID=America/New_York:20241112T180000
DTSTAMP:20260421T131341
CREATED:20241031T182145Z
LAST-MODIFIED:20241031T182145Z
UID:10000945-1731434400-1731434400@glencoveny.gov
SUMMARY:IDA/LEAC Board Mtg
DESCRIPTION:6PM:  IDA/LEAC Board Mtg \n (2nd flr conf rm of City Hall) \n  \nIDA/LEAC public meetings are livestreamed via the following link and a recording of the meetings will be published the following day on our website: \nhttps://glencoveida.org/meeting-livestream/
URL:https://glencoveny.gov/event/ida-leac-board-mtg-2
CATEGORIES:IDA/LEAC
END:VEVENT
BEGIN:VEVENT
DTSTART;TZID=America/New_York:20241112T193000
DTEND;TZID=America/New_York:20241112T193000
DTSTAMP:20260421T131341
CREATED:20240111T144257Z
LAST-MODIFIED:20240111T144257Z
UID:10000782-1731439800-1731439800@glencoveny.gov
SUMMARY:Council Meeting
DESCRIPTION:
URL:https://glencoveny.gov/event/council-meeting-19
CATEGORIES:City Council
END:VEVENT
BEGIN:VEVENT
DTSTART;TZID=America/New_York:20241119T183000
DTEND;TZID=America/New_York:20241119T183000
DTSTAMP:20260421T131341
CREATED:20240111T143249Z
LAST-MODIFIED:20240111T143417Z
UID:10000762-1732041000-1732041000@glencoveny.gov
SUMMARY:Pre-Council Meeting
DESCRIPTION:
URL:https://glencoveny.gov/event/pre-council-meeting-28
CATEGORIES:City Council
END:VEVENT
BEGIN:VEVENT
DTSTART;TZID=America/New_York:20241119T193000
DTEND;TZID=America/New_York:20241119T203000
DTSTAMP:20260421T131341
CREATED:20241010T204654Z
LAST-MODIFIED:20241119T142747Z
UID:10000938-1732044600-1732048200@glencoveny.gov
SUMMARY:**CANCELED**Planning Board Meeting
DESCRIPTION:Please note that the Planning Board meetings occur on the first and third Tuesday of each month\, unless otherwise specified. Meetings of the Planning Board are conducted in the Main Chambers\, City Hall 9 Glen Street\, Glen Cove\, NY.
URL:https://glencoveny.gov/event/planning-board-meeting-28/2024-11-19
LOCATION:City Hall Main Chambers
CATEGORIES:Planning Board
END:VEVENT
BEGIN:VEVENT
DTSTART;TZID=America/New_York:20241126T180000
DTEND;TZID=America/New_York:20241126T190000
DTSTAMP:20260421T131341
CREATED:20241119T193027Z
LAST-MODIFIED:20241119T193027Z
UID:10000946-1732644000-1732647600@glencoveny.gov
SUMMARY:CDA Board Meeting
DESCRIPTION:6PM:  (2nd flr conf room of City Hall)
URL:https://glencoveny.gov/event/cda-board-meeting-4
CATEGORIES:CDA
END:VEVENT
BEGIN:VEVENT
DTSTART;TZID=America/New_York:20241126T193000
DTEND;TZID=America/New_York:20241126T193000
DTSTAMP:20260421T131341
CREATED:20240111T144318Z
LAST-MODIFIED:20240111T144318Z
UID:10000783-1732649400-1732649400@glencoveny.gov
SUMMARY:Council Meeting
DESCRIPTION:
URL:https://glencoveny.gov/event/council-meeting-20
CATEGORIES:City Council
END:VEVENT
BEGIN:VEVENT
DTSTART;VALUE=DATE:20241128
DTEND;VALUE=DATE:20241130
DTSTAMP:20260421T131341
CREATED:20240806T161926Z
LAST-MODIFIED:20240806T161926Z
UID:10000918-1732752000-1732924799@glencoveny.gov
SUMMARY:Holiday
DESCRIPTION:City Hall Closed for the Thanksgiving Holiday
URL:https://glencoveny.gov/event/holiday-3
LOCATION:City Hall\, 9 Glen Street\, Glen Cove\, NY\, 11542\, United States
END:VEVENT
END:VCALENDAR