BEGIN:VCALENDAR
VERSION:2.0
PRODID:-//City of Glen Cove - ECPv6.15.17.1//NONSGML v1.0//EN
CALSCALE:GREGORIAN
METHOD:PUBLISH
X-WR-CALNAME:City of Glen Cove
X-ORIGINAL-URL:https://glencoveny.gov
X-WR-CALDESC:Events for City of Glen Cove
REFRESH-INTERVAL;VALUE=DURATION:PT1H
X-Robots-Tag:noindex
X-PUBLISHED-TTL:PT1H
BEGIN:VTIMEZONE
TZID:America/New_York
BEGIN:DAYLIGHT
TZOFFSETFROM:-0500
TZOFFSETTO:-0400
TZNAME:EDT
DTSTART:20230312T070000
END:DAYLIGHT
BEGIN:STANDARD
TZOFFSETFROM:-0400
TZOFFSETTO:-0500
TZNAME:EST
DTSTART:20231105T060000
END:STANDARD
BEGIN:DAYLIGHT
TZOFFSETFROM:-0500
TZOFFSETTO:-0400
TZNAME:EDT
DTSTART:20240310T070000
END:DAYLIGHT
BEGIN:STANDARD
TZOFFSETFROM:-0400
TZOFFSETTO:-0500
TZNAME:EST
DTSTART:20241103T060000
END:STANDARD
BEGIN:DAYLIGHT
TZOFFSETFROM:-0500
TZOFFSETTO:-0400
TZNAME:EDT
DTSTART:20250309T070000
END:DAYLIGHT
BEGIN:STANDARD
TZOFFSETFROM:-0400
TZOFFSETTO:-0500
TZNAME:EST
DTSTART:20251102T060000
END:STANDARD
END:VTIMEZONE
BEGIN:VEVENT
DTSTART;TZID=America/New_York:20241203T183000
DTEND;TZID=America/New_York:20241203T183000
DTSTAMP:20260421T150621
CREATED:20240111T143312Z
LAST-MODIFIED:20240111T143417Z
UID:10000763-1733250600-1733250600@glencoveny.gov
SUMMARY:Pre-Council Meeting
DESCRIPTION:
URL:https://glencoveny.gov/event/pre-council-meeting-29
CATEGORIES:City Council
END:VEVENT
BEGIN:VEVENT
DTSTART;TZID=America/New_York:20241203T193000
DTEND;TZID=America/New_York:20241203T203000
DTSTAMP:20260421T150621
CREATED:20241010T204654Z
LAST-MODIFIED:20241119T142747Z
UID:10000939-1733254200-1733257800@glencoveny.gov
SUMMARY:**CANCELED**Planning Board Meeting
DESCRIPTION:Please note that the Planning Board meetings occur on the first and third Tuesday of each month\, unless otherwise specified. Meetings of the Planning Board are conducted in the Main Chambers\, City Hall 9 Glen Street\, Glen Cove\, NY.
URL:https://glencoveny.gov/event/planning-board-meeting-28/2024-12-03
LOCATION:City Hall Main Chambers
CATEGORIES:Planning Board
END:VEVENT
BEGIN:VEVENT
DTSTART;TZID=America/New_York:20241205T193000
DTEND;TZID=America/New_York:20241205T193000
DTSTAMP:20260421T150621
CREATED:20241205T191557Z
LAST-MODIFIED:20241205T191557Z
UID:10000949-1733427000-1733427000@glencoveny.gov
SUMMARY:Zoning Board of Appeals
DESCRIPTION:
URL:https://glencoveny.gov/event/zoning-board-of-appeals-5
CATEGORIES:ZBA
END:VEVENT
BEGIN:VEVENT
DTSTART;TZID=America/New_York:20241210T180000
DTEND;TZID=America/New_York:20241210T190000
DTSTAMP:20260421T150621
CREATED:20241203T162530Z
LAST-MODIFIED:20241203T162530Z
UID:10000947-1733853600-1733857200@glencoveny.gov
SUMMARY:IDA/LEAC Board Mtg
DESCRIPTION:6:00 P.M.:  IDA/LEAC Board Mtg  \n  \n(2nd flr conf rm of City Hall) \n  \nIDA/LEAC public meetings are livestreamed via the following link and a recording of the meetings will be published the following day on our website:
URL:https://glencoveny.gov/event/ida-leac-board-mtg-3
CATEGORIES:IDA/LEAC
END:VEVENT
BEGIN:VEVENT
DTSTART;TZID=America/New_York:20241210T193000
DTEND;TZID=America/New_York:20241210T193000
DTSTAMP:20260421T150621
CREATED:20240111T144339Z
LAST-MODIFIED:20240111T144339Z
UID:10000784-1733859000-1733859000@glencoveny.gov
SUMMARY:Council Meeting
DESCRIPTION:
URL:https://glencoveny.gov/event/council-meeting-21
CATEGORIES:City Council
END:VEVENT
BEGIN:VEVENT
DTSTART;TZID=America/New_York:20241217T183000
DTEND;TZID=America/New_York:20241217T183000
DTSTAMP:20260421T150621
CREATED:20240111T143342Z
LAST-MODIFIED:20240111T143417Z
UID:10000764-1734460200-1734460200@glencoveny.gov
SUMMARY:Pre-Council Meeting
DESCRIPTION:
URL:https://glencoveny.gov/event/pre-council-meeting-30
CATEGORIES:City Council
END:VEVENT
BEGIN:VEVENT
DTSTART;TZID=America/New_York:20241217T193000
DTEND;TZID=America/New_York:20241217T203000
DTSTAMP:20260421T150621
CREATED:20241010T204654Z
LAST-MODIFIED:20241119T142747Z
UID:10000940-1734463800-1734467400@glencoveny.gov
SUMMARY:**CANCELED**Planning Board Meeting
DESCRIPTION:Please note that the Planning Board meetings occur on the first and third Tuesday of each month\, unless otherwise specified. Meetings of the Planning Board are conducted in the Main Chambers\, City Hall 9 Glen Street\, Glen Cove\, NY.
URL:https://glencoveny.gov/event/planning-board-meeting-28/2024-12-17
LOCATION:City Hall Main Chambers
CATEGORIES:Planning Board
END:VEVENT
BEGIN:VEVENT
DTSTART;TZID=America/New_York:20241223T193000
DTEND;TZID=America/New_York:20241223T193000
DTSTAMP:20260421T150621
CREATED:20240111T144359Z
LAST-MODIFIED:20240111T144359Z
UID:10000785-1734982200-1734982200@glencoveny.gov
SUMMARY:Council Meeting
DESCRIPTION:
URL:https://glencoveny.gov/event/council-meeting-22
CATEGORIES:City Council
END:VEVENT
BEGIN:VEVENT
DTSTART;VALUE=DATE:20241225
DTEND;VALUE=DATE:20241226
DTSTAMP:20260421T150621
CREATED:20240806T162016Z
LAST-MODIFIED:20241206T183414Z
UID:10000919-1735084800-1735171199@glencoveny.gov
SUMMARY:Christmas Day
DESCRIPTION:City Hall Closed for Christmas Day
URL:https://glencoveny.gov/event/holiday-4
END:VEVENT
END:VCALENDAR