BEGIN:VCALENDAR
VERSION:2.0
PRODID:-//City of Glen Cove - ECPv6.15.17.1//NONSGML v1.0//EN
CALSCALE:GREGORIAN
METHOD:PUBLISH
X-WR-CALNAME:City of Glen Cove
X-ORIGINAL-URL:https://glencoveny.gov
X-WR-CALDESC:Events for City of Glen Cove
REFRESH-INTERVAL;VALUE=DURATION:PT1H
X-Robots-Tag:noindex
X-PUBLISHED-TTL:PT1H
BEGIN:VTIMEZONE
TZID:America/New_York
BEGIN:DAYLIGHT
TZOFFSETFROM:-0500
TZOFFSETTO:-0400
TZNAME:EDT
DTSTART:20240310T070000
END:DAYLIGHT
BEGIN:STANDARD
TZOFFSETFROM:-0400
TZOFFSETTO:-0500
TZNAME:EST
DTSTART:20241103T060000
END:STANDARD
BEGIN:DAYLIGHT
TZOFFSETFROM:-0500
TZOFFSETTO:-0400
TZNAME:EDT
DTSTART:20250309T070000
END:DAYLIGHT
BEGIN:STANDARD
TZOFFSETFROM:-0400
TZOFFSETTO:-0500
TZNAME:EST
DTSTART:20251102T060000
END:STANDARD
BEGIN:DAYLIGHT
TZOFFSETFROM:-0500
TZOFFSETTO:-0400
TZNAME:EDT
DTSTART:20260308T070000
END:DAYLIGHT
BEGIN:STANDARD
TZOFFSETFROM:-0400
TZOFFSETTO:-0500
TZNAME:EST
DTSTART:20261101T060000
END:STANDARD
END:VTIMEZONE
BEGIN:VEVENT
DTSTART;VALUE=DATE:20250101
DTEND;VALUE=DATE:20250102
DTSTAMP:20260421T171337
CREATED:20241206T170958Z
LAST-MODIFIED:20241206T170958Z
UID:10001102-1735689600-1735775999@glencoveny.gov
SUMMARY:New Year's Day
DESCRIPTION:
URL:https://glencoveny.gov/event/new-years-day-3
CATEGORIES:Holiday
END:VEVENT
BEGIN:VEVENT
DTSTART;TZID=America/New_York:20250107T183000
DTEND;TZID=America/New_York:20250107T190000
DTSTAMP:20260421T171337
CREATED:20241227T201940Z
LAST-MODIFIED:20250102T214456Z
UID:10001117-1736274600-1736276400@glencoveny.gov
SUMMARY:Special City Council Meeting / Pre-Council Meeting
DESCRIPTION:Special City Council Meeting followed by Pre-Council Meeting immediately after.
URL:https://glencoveny.gov/event/pre-council-meeting-20
CATEGORIES:City Council
END:VEVENT
BEGIN:VEVENT
DTSTART;TZID=America/New_York:20250107T193000
DTEND;TZID=America/New_York:20250107T193000
DTSTAMP:20260421T171337
CREATED:20250910T172342Z
LAST-MODIFIED:20250910T172342Z
UID:10001279-1736278200-1736278200@glencoveny.gov
SUMMARY:Planning Board Meeting
DESCRIPTION:
URL:https://glencoveny.gov/event/planning-board-meeting-32
END:VEVENT
BEGIN:VEVENT
DTSTART;TZID=America/New_York:20250114T180000
DTEND;TZID=America/New_York:20250114T200000
DTSTAMP:20260421T171337
CREATED:20241227T212117Z
LAST-MODIFIED:20241227T212117Z
UID:10001124-1736877600-1736884800@glencoveny.gov
SUMMARY:Glen Cove CDA Board Meeting
DESCRIPTION:2nd floor conference room City Hall
URL:https://glencoveny.gov/event/glen-cove-cda-board-meeting-10
CATEGORIES:CDA
END:VEVENT
BEGIN:VEVENT
DTSTART;TZID=America/New_York:20250114T193000
DTEND;TZID=America/New_York:20250114T203000
DTSTAMP:20260421T171337
CREATED:20241230T151008Z
LAST-MODIFIED:20250101T010734Z
UID:10001139-1736883000-1736886600@glencoveny.gov
SUMMARY:Council Meeting
DESCRIPTION:
URL:https://glencoveny.gov/event/council-meeting-23
CATEGORIES:City Council
END:VEVENT
BEGIN:VEVENT
DTSTART;TZID=America/New_York:20250116T193000
DTEND;TZID=America/New_York:20250116T193000
DTSTAMP:20260421T171337
CREATED:20241205T185700Z
LAST-MODIFIED:20250115T173142Z
UID:10000948-1737055800-1737055800@glencoveny.gov
SUMMARY:Zoning Board of Appeals - Cancelled
DESCRIPTION:
URL:https://glencoveny.gov/event/zoning-board-of-appeals-4
CATEGORIES:ZBA
END:VEVENT
BEGIN:VEVENT
DTSTART;VALUE=DATE:20250120
DTEND;VALUE=DATE:20250121
DTSTAMP:20260421T171337
CREATED:20241206T171229Z
LAST-MODIFIED:20241206T171229Z
UID:10001103-1737331200-1737417599@glencoveny.gov
SUMMARY:Martin Luther King’s Birthday
DESCRIPTION:
URL:https://glencoveny.gov/event/martin-luther-kings-birthday
CATEGORIES:Holiday
END:VEVENT
BEGIN:VEVENT
DTSTART;TZID=America/New_York:20250121T183000
DTEND;TZID=America/New_York:20250121T190000
DTSTAMP:20260421T171337
CREATED:20250101T005555Z
LAST-MODIFIED:20250101T005555Z
UID:10001160-1737484200-1737486000@glencoveny.gov
SUMMARY:Pre-Council Meeting
DESCRIPTION:
URL:https://glencoveny.gov/event/pre-council-meeting-31
CATEGORIES:City Council
END:VEVENT
BEGIN:VEVENT
DTSTART;TZID=America/New_York:20250121T193000
DTEND;TZID=America/New_York:20250121T193000
DTSTAMP:20260421T171337
CREATED:20250910T172438Z
LAST-MODIFIED:20250910T172438Z
UID:10001280-1737487800-1737487800@glencoveny.gov
SUMMARY:Planning Board Meeting
DESCRIPTION:
URL:https://glencoveny.gov/event/planning-board-meeting-34
END:VEVENT
BEGIN:VEVENT
DTSTART;TZID=America/New_York:20250128T173000
DTEND;TZID=America/New_York:20250128T200000
DTSTAMP:20260421T171337
CREATED:20241227T212312Z
LAST-MODIFIED:20241227T212312Z
UID:10001125-1738085400-1738094400@glencoveny.gov
SUMMARY:Glen Cove IDA/LEAC Board Meeting
DESCRIPTION:2nd floor conference room City Hall \n*IDA/LEAC public meetings are livestreamed via the following link and a recording of the meetings will be published the following day on our website: \nhttps://glencoveida.org/meeting-livestream/
URL:https://glencoveny.gov/event/glen-cove-ida-leac-board-meeting-11
CATEGORIES:IDA/LEAC
END:VEVENT
BEGIN:VEVENT
DTSTART;TZID=America/New_York:20250128T193000
DTEND;TZID=America/New_York:20250128T193000
DTSTAMP:20260421T171337
CREATED:20250103T163211Z
LAST-MODIFIED:20250103T163211Z
UID:10001165-1738092600-1738092600@glencoveny.gov
SUMMARY:Council Meeting
DESCRIPTION:
URL:https://glencoveny.gov/event/council-meeting-24
CATEGORIES:City Council
END:VEVENT
END:VCALENDAR