BEGIN:VCALENDAR
VERSION:2.0
PRODID:-//City of Glen Cove - ECPv6.15.17.1//NONSGML v1.0//EN
CALSCALE:GREGORIAN
METHOD:PUBLISH
X-WR-CALNAME:City of Glen Cove
X-ORIGINAL-URL:https://glencoveny.gov
X-WR-CALDESC:Events for City of Glen Cove
REFRESH-INTERVAL;VALUE=DURATION:PT1H
X-Robots-Tag:noindex
X-PUBLISHED-TTL:PT1H
BEGIN:VTIMEZONE
TZID:America/New_York
BEGIN:DAYLIGHT
TZOFFSETFROM:-0500
TZOFFSETTO:-0400
TZNAME:EDT
DTSTART:20240310T070000
END:DAYLIGHT
BEGIN:STANDARD
TZOFFSETFROM:-0400
TZOFFSETTO:-0500
TZNAME:EST
DTSTART:20241103T060000
END:STANDARD
BEGIN:DAYLIGHT
TZOFFSETFROM:-0500
TZOFFSETTO:-0400
TZNAME:EDT
DTSTART:20250309T070000
END:DAYLIGHT
BEGIN:STANDARD
TZOFFSETFROM:-0400
TZOFFSETTO:-0500
TZNAME:EST
DTSTART:20251102T060000
END:STANDARD
BEGIN:DAYLIGHT
TZOFFSETFROM:-0500
TZOFFSETTO:-0400
TZNAME:EDT
DTSTART:20260308T070000
END:DAYLIGHT
BEGIN:STANDARD
TZOFFSETFROM:-0400
TZOFFSETTO:-0500
TZNAME:EST
DTSTART:20261101T060000
END:STANDARD
END:VTIMEZONE
BEGIN:VEVENT
DTSTART;TZID=America/New_York:20250204T183000
DTEND;TZID=America/New_York:20250204T190000
DTSTAMP:20260421T183833
CREATED:20241227T202209Z
LAST-MODIFIED:20241227T202209Z
UID:10001119-1738693800-1738695600@glencoveny.gov
SUMMARY:Pre-Council Meeting
DESCRIPTION:
URL:https://glencoveny.gov/event/pre-council-meeting-32
CATEGORIES:City Council
END:VEVENT
BEGIN:VEVENT
DTSTART;TZID=America/New_York:20250204T193000
DTEND;TZID=America/New_York:20250204T193000
DTSTAMP:20260421T183833
CREATED:20250910T172528Z
LAST-MODIFIED:20250910T172528Z
UID:10001281-1738697400-1738697400@glencoveny.gov
SUMMARY:Planning Board Meeting
DESCRIPTION:
URL:https://glencoveny.gov/event/planning-board-meeting-36
END:VEVENT
BEGIN:VEVENT
DTSTART;TZID=America/New_York:20250211T193000
DTEND;TZID=America/New_York:20250211T203000
DTSTAMP:20260421T183833
CREATED:20250101T010330Z
LAST-MODIFIED:20250101T010330Z
UID:10001163-1739302200-1739305800@glencoveny.gov
SUMMARY:Council Meeting
DESCRIPTION:
URL:https://glencoveny.gov/event/council-meeting-25
CATEGORIES:City Council
END:VEVENT
BEGIN:VEVENT
DTSTART;VALUE=DATE:20250212
DTEND;VALUE=DATE:20250213
DTSTAMP:20260421T183833
CREATED:20241206T171551Z
LAST-MODIFIED:20250116T145036Z
UID:10001104-1739318400-1739404799@glencoveny.gov
SUMMARY:Lincoln’s Birthday
DESCRIPTION:City Hall is open. \n  \nPlease note for some City Employees: a compensatory day off for Lincoln’s Birthday\, Easter Sunday and Flag Day should be taken within (1) calendar year of the holiday. Time off is on a straight time basis
URL:https://glencoveny.gov/event/lincolns-birthday
CATEGORIES:Holiday
END:VEVENT
BEGIN:VEVENT
DTSTART;VALUE=DATE:20250217
DTEND;VALUE=DATE:20250218
DTSTAMP:20260421T183833
CREATED:20241206T171644Z
LAST-MODIFIED:20250116T145103Z
UID:10001105-1739750400-1739836799@glencoveny.gov
SUMMARY:President’s Day
DESCRIPTION:Please note City Hall is closed. 
URL:https://glencoveny.gov/event/presidents-day-2
CATEGORIES:Holiday
END:VEVENT
BEGIN:VEVENT
DTSTART;TZID=America/New_York:20250218T183000
DTEND;TZID=America/New_York:20250218T190000
DTSTAMP:20260421T183833
CREATED:20241227T202420Z
LAST-MODIFIED:20241227T202420Z
UID:10001120-1739903400-1739905200@glencoveny.gov
SUMMARY:Pre-Council Meeting
DESCRIPTION:
URL:https://glencoveny.gov/event/pre-council-meeting-33
CATEGORIES:City Council
END:VEVENT
BEGIN:VEVENT
DTSTART;TZID=America/New_York:20250218T193000
DTEND;TZID=America/New_York:20250218T193000
DTSTAMP:20260421T183833
CREATED:20250910T172617Z
LAST-MODIFIED:20250910T172711Z
UID:10001282-1739907000-1739907000@glencoveny.gov
SUMMARY:Planning Board Meeting
DESCRIPTION:
URL:https://glencoveny.gov/event/planning-board-meeting-37
END:VEVENT
BEGIN:VEVENT
DTSTART;TZID=America/New_York:20250220T193000
DTEND;TZID=America/New_York:20250220T193000
DTSTAMP:20260421T183833
CREATED:20241205T191756Z
LAST-MODIFIED:20241205T191756Z
UID:10000950-1740079800-1740079800@glencoveny.gov
SUMMARY:Zoning Board of Appeals
DESCRIPTION:
URL:https://glencoveny.gov/event/zoning-board-of-appeals-6
CATEGORIES:ZBA
END:VEVENT
BEGIN:VEVENT
DTSTART;TZID=America/New_York:20250225T173000
DTEND;TZID=America/New_York:20250225T183000
DTSTAMP:20260421T183833
CREATED:20250219T164309Z
LAST-MODIFIED:20250219T164309Z
UID:10001187-1740504600-1740508200@glencoveny.gov
SUMMARY:Glen Cove IDA/LEAC Board Meeting
DESCRIPTION:Tuesday\, February 25\, 2025: \nGlen Cove IDA/LEAC Board Meeting* \n5:30 P.M. – 2nd floor conference room City Hall \n  \n*IDA/LEAC public meetings are livestreamed via the following link and a recording of the meetings will be published the following day on our website: \nhttps://glencoveida.org/meeting-livestream/
URL:https://glencoveny.gov/event/glen-cove-ida-leac-board-meeting-12
CATEGORIES:IDA/LEAC
END:VEVENT
BEGIN:VEVENT
DTSTART;TZID=America/New_York:20250225T193000
DTEND;TZID=America/New_York:20250225T203000
DTSTAMP:20260421T183833
CREATED:20241230T151319Z
LAST-MODIFIED:20250101T012148Z
UID:10001142-1740511800-1740515400@glencoveny.gov
SUMMARY:Council Meeting
DESCRIPTION:
URL:https://glencoveny.gov/event/council-meeting-26
CATEGORIES:City Council
END:VEVENT
END:VCALENDAR