BEGIN:VCALENDAR
VERSION:2.0
PRODID:-//City of Glen Cove - ECPv6.15.17.1//NONSGML v1.0//EN
CALSCALE:GREGORIAN
METHOD:PUBLISH
X-WR-CALNAME:City of Glen Cove
X-ORIGINAL-URL:https://glencoveny.gov
X-WR-CALDESC:Events for City of Glen Cove
REFRESH-INTERVAL;VALUE=DURATION:PT1H
X-Robots-Tag:noindex
X-PUBLISHED-TTL:PT1H
BEGIN:VTIMEZONE
TZID:America/New_York
BEGIN:DAYLIGHT
TZOFFSETFROM:-0500
TZOFFSETTO:-0400
TZNAME:EDT
DTSTART:20240310T070000
END:DAYLIGHT
BEGIN:STANDARD
TZOFFSETFROM:-0400
TZOFFSETTO:-0500
TZNAME:EST
DTSTART:20241103T060000
END:STANDARD
BEGIN:DAYLIGHT
TZOFFSETFROM:-0500
TZOFFSETTO:-0400
TZNAME:EDT
DTSTART:20250309T070000
END:DAYLIGHT
BEGIN:STANDARD
TZOFFSETFROM:-0400
TZOFFSETTO:-0500
TZNAME:EST
DTSTART:20251102T060000
END:STANDARD
BEGIN:DAYLIGHT
TZOFFSETFROM:-0500
TZOFFSETTO:-0400
TZNAME:EDT
DTSTART:20260308T070000
END:DAYLIGHT
BEGIN:STANDARD
TZOFFSETFROM:-0400
TZOFFSETTO:-0500
TZNAME:EST
DTSTART:20261101T060000
END:STANDARD
END:VTIMEZONE
BEGIN:VEVENT
DTSTART;TZID=America/New_York:20250304T183000
DTEND;TZID=America/New_York:20250304T190000
DTSTAMP:20260421T202740
CREATED:20241227T202610Z
LAST-MODIFIED:20241227T202610Z
UID:10001121-1741113000-1741114800@glencoveny.gov
SUMMARY:Pre-Council Meeting
DESCRIPTION:
URL:https://glencoveny.gov/event/pre-council-meeting-34
CATEGORIES:City Council
END:VEVENT
BEGIN:VEVENT
DTSTART;TZID=America/New_York:20250304T193000
DTEND;TZID=America/New_York:20250304T203000
DTSTAMP:20260421T202740
CREATED:20250227T185335Z
LAST-MODIFIED:20250910T165445Z
UID:10001188-1741116600-1741120200@glencoveny.gov
SUMMARY:Planning Board Meeting
DESCRIPTION:Please note this meeting has been canceled. 
URL:https://glencoveny.gov/event/planning-board-meeting-canceled
CATEGORIES:Planning Board
END:VEVENT
BEGIN:VEVENT
DTSTART;TZID=America/New_York:20250311T180000
DTEND;TZID=America/New_York:20250311T190000
DTSTAMP:20260421T202740
CREATED:20250306T214858Z
LAST-MODIFIED:20250306T214929Z
UID:10001192-1741716000-1741719600@glencoveny.gov
SUMMARY:CDA Board Meeting
DESCRIPTION:Tuesday\, March 11\, 2025: \nGlen Cove CDA Board Meeting \n6:00 P.M. – 2nd floor conference room City Hall \n  \n*IDA/LEAC public meetings are livestreamed via the following link and a recording of the meetings will be published the following day on our website: \nhttps://glencoveida.org/meeting-livestream/
URL:https://glencoveny.gov/event/cda-board-meeting-5
CATEGORIES:CDA
END:VEVENT
BEGIN:VEVENT
DTSTART;TZID=America/New_York:20250311T193000
DTEND;TZID=America/New_York:20250311T203000
DTSTAMP:20260421T202740
CREATED:20241230T151612Z
LAST-MODIFIED:20250101T012110Z
UID:10001143-1741721400-1741725000@glencoveny.gov
SUMMARY:Council Meeting
DESCRIPTION:
URL:https://glencoveny.gov/event/council-meeting-27
CATEGORIES:City Council
END:VEVENT
BEGIN:VEVENT
DTSTART;TZID=America/New_York:20250313T173000
DTEND;TZID=America/New_York:20250313T183000
DTSTAMP:20260421T202740
CREATED:20250306T215049Z
LAST-MODIFIED:20250306T215049Z
UID:10001193-1741887000-1741890600@glencoveny.gov
SUMMARY:IDA/LEAC Board Mtg
DESCRIPTION:Thursday\, March 13\, 2025: \nGlen Cove IDA/LEAC Special Board Meeting* \n5:30 P.M. – 2nd floor conference room City Hall \n  \n*IDA/LEAC public meetings are livestreamed via the following link and a recording of the meetings will be published the following day on our website: \nhttps://glencoveida.org/meeting-livestream/
URL:https://glencoveny.gov/event/ida-leac-board-mtg-4
CATEGORIES:IDA/LEAC
END:VEVENT
BEGIN:VEVENT
DTSTART;TZID=America/New_York:20250318T183000
DTEND;TZID=America/New_York:20250318T190000
DTSTAMP:20260421T202740
CREATED:20241227T202643Z
LAST-MODIFIED:20241227T202643Z
UID:10001122-1742322600-1742324400@glencoveny.gov
SUMMARY:Pre-Council Meeting
DESCRIPTION:
URL:https://glencoveny.gov/event/pre-council-meeting-35
CATEGORIES:City Council
END:VEVENT
BEGIN:VEVENT
DTSTART;TZID=America/New_York:20250318T193000
DTEND;TZID=America/New_York:20250318T193000
DTSTAMP:20260421T202740
CREATED:20250318T150116Z
LAST-MODIFIED:20250910T165428Z
UID:10001210-1742326200-1742326200@glencoveny.gov
SUMMARY:Planning Board Meeting
DESCRIPTION:
URL:https://glencoveny.gov/event/planning-board-meeting-cancelled-7
CATEGORIES:Planning Board
END:VEVENT
BEGIN:VEVENT
DTSTART;TZID=America/New_York:20250320T150000
DTEND;TZID=America/New_York:20250320T193000
DTSTAMP:20260421T202740
CREATED:20250318T171608Z
LAST-MODIFIED:20250318T171608Z
UID:10001211-1742482800-1742499000@glencoveny.gov
SUMMARY:IDA/LEAC Board Mtg
DESCRIPTION:Thursday\, March 20\, 2025: \nGlen Cove IDA/LEAC  \n  \n3:00 PM:       Governance Committee  \n6:30 P.M.   Audit/Finance Committee \n  \n2nd floor conference room City Hall \n  \n*IDA/LEAC public meetings are livestreamed via the following link and a recording of the meetings will be published the following day on our website: \nhttps://glencoveida.org/meeting-livestream/
URL:https://glencoveny.gov/event/ida-leac-board-mtg-5
CATEGORIES:IDA/LEAC
END:VEVENT
BEGIN:VEVENT
DTSTART;TZID=America/New_York:20250320T193000
DTEND;TZID=America/New_York:20250320T193000
DTSTAMP:20260421T202740
CREATED:20241205T191839Z
LAST-MODIFIED:20241205T191839Z
UID:10000951-1742499000-1742499000@glencoveny.gov
SUMMARY:Zoning Board of Appeals
DESCRIPTION:
URL:https://glencoveny.gov/event/zoning-board-of-appeals-7
CATEGORIES:ZBA
END:VEVENT
BEGIN:VEVENT
DTSTART;TZID=America/New_York:20250324T193000
DTEND;TZID=America/New_York:20250324T193000
DTSTAMP:20260421T202740
CREATED:20250312T204551Z
LAST-MODIFIED:20250312T204551Z
UID:10001195-1742844600-1742844600@glencoveny.gov
SUMMARY:City Council
DESCRIPTION:Please note:  the council meeting has been rescheduled to 3/24/2025 instead of 3/25/2025. 
URL:https://glencoveny.gov/event/city-council
CATEGORIES:City Council
END:VEVENT
BEGIN:VEVENT
DTSTART;TZID=America/New_York:20250327T163000
DTEND;TZID=America/New_York:20250327T173000
DTSTAMP:20260421T202740
CREATED:20250321T142644Z
LAST-MODIFIED:20250321T142644Z
UID:10001215-1743093000-1743096600@glencoveny.gov
SUMMARY:IDA/LEAC Board Mtg
DESCRIPTION:*IDA/LEAC BOARD MEETING:   4:30PM \n  \n*IDA/LEAC meetings will be streamed in real-time and a recording of the meetings will be posted on the Agency’s website at http://glencoveida.org/meeting-livestream/  in accordance with Section 857 of the New York General Municipal Law\, as amended.
URL:https://glencoveny.gov/event/ida-leac-board-mtg-6
CATEGORIES:IDA/LEAC
END:VEVENT
BEGIN:VEVENT
DTSTART;TZID=America/New_York:20250327T173000
DTEND;TZID=America/New_York:20250327T183000
DTSTAMP:20260421T202740
CREATED:20250320T205914Z
LAST-MODIFIED:20250320T205914Z
UID:10001212-1743096600-1743100200@glencoveny.gov
SUMMARY:CDA Board Meeting
DESCRIPTION:CDA BOARD MEETING:  5:30PM \n 
URL:https://glencoveny.gov/event/cda-board-meeting-6
CATEGORIES:CDA
END:VEVENT
END:VCALENDAR