BEGIN:VCALENDAR
VERSION:2.0
PRODID:-//City of Glen Cove - ECPv6.15.17.1//NONSGML v1.0//EN
CALSCALE:GREGORIAN
METHOD:PUBLISH
X-WR-CALNAME:City of Glen Cove
X-ORIGINAL-URL:https://glencoveny.gov
X-WR-CALDESC:Events for City of Glen Cove
REFRESH-INTERVAL;VALUE=DURATION:PT1H
X-Robots-Tag:noindex
X-PUBLISHED-TTL:PT1H
BEGIN:VTIMEZONE
TZID:America/New_York
BEGIN:DAYLIGHT
TZOFFSETFROM:-0500
TZOFFSETTO:-0400
TZNAME:EDT
DTSTART:20240310T070000
END:DAYLIGHT
BEGIN:STANDARD
TZOFFSETFROM:-0400
TZOFFSETTO:-0500
TZNAME:EST
DTSTART:20241103T060000
END:STANDARD
BEGIN:DAYLIGHT
TZOFFSETFROM:-0500
TZOFFSETTO:-0400
TZNAME:EDT
DTSTART:20250309T070000
END:DAYLIGHT
BEGIN:STANDARD
TZOFFSETFROM:-0400
TZOFFSETTO:-0500
TZNAME:EST
DTSTART:20251102T060000
END:STANDARD
BEGIN:DAYLIGHT
TZOFFSETFROM:-0500
TZOFFSETTO:-0400
TZNAME:EDT
DTSTART:20260308T070000
END:DAYLIGHT
BEGIN:STANDARD
TZOFFSETFROM:-0400
TZOFFSETTO:-0500
TZNAME:EST
DTSTART:20261101T060000
END:STANDARD
END:VTIMEZONE
BEGIN:VEVENT
DTSTART;TZID=America/New_York:20250701T193000
DTEND;TZID=America/New_York:20250701T203000
DTSTAMP:20260422T033321
CREATED:20250701T140928Z
LAST-MODIFIED:20250910T165047Z
UID:10001261-1751398200-1751401800@glencoveny.gov
SUMMARY:Planning Board Meeting
DESCRIPTION:
URL:https://glencoveny.gov/event/planning-board-meeting-canceled-2
CATEGORIES:Planning Board
END:VEVENT
BEGIN:VEVENT
DTSTART;VALUE=DATE:20250704
DTEND;VALUE=DATE:20250705
DTSTAMP:20260422T033322
CREATED:20241206T172139Z
LAST-MODIFIED:20250116T150723Z
UID:10001110-1751587200-1751673599@glencoveny.gov
SUMMARY:Independence Day
DESCRIPTION:City Hall is closed.
URL:https://glencoveny.gov/event/independence-day-2
CATEGORIES:Holiday
END:VEVENT
BEGIN:VEVENT
DTSTART;TZID=America/New_York:20250708T173000
DTEND;TZID=America/New_York:20250708T173000
DTSTAMP:20260422T033322
CREATED:20250703T144437Z
LAST-MODIFIED:20250703T144437Z
UID:10001263-1751995800-1751995800@glencoveny.gov
SUMMARY:IDA/LEAC Special Board Meeting
DESCRIPTION:2nd floor Conference Room
URL:https://glencoveny.gov/event/ida-leac-special-board-meeting
CATEGORIES:IDA/LEAC
END:VEVENT
BEGIN:VEVENT
DTSTART;TZID=America/New_York:20250715T183000
DTEND;TZID=America/New_York:20250715T190000
DTSTAMP:20260422T033322
CREATED:20241230T150439Z
LAST-MODIFIED:20241230T150439Z
UID:10001130-1752604200-1752606000@glencoveny.gov
SUMMARY:Pre-Council Meeting
DESCRIPTION:
URL:https://glencoveny.gov/event/pre-council-meeting-41
CATEGORIES:City Council
END:VEVENT
BEGIN:VEVENT
DTSTART;TZID=America/New_York:20250715T193000
DTEND;TZID=America/New_York:20250715T203000
DTSTAMP:20260422T033322
CREATED:20250701T141001Z
LAST-MODIFIED:20250701T141001Z
UID:10001262-1752607800-1752611400@glencoveny.gov
SUMMARY:Planning Board Meeting
DESCRIPTION:
URL:https://glencoveny.gov/event/planning-board-meeting-31
CATEGORIES:Planning Board
END:VEVENT
BEGIN:VEVENT
DTSTART;TZID=America/New_York:20250717T193000
DTEND;TZID=America/New_York:20250717T193000
DTSTAMP:20260422T033322
CREATED:20241205T192233Z
LAST-MODIFIED:20241205T192233Z
UID:10000955-1752780600-1752780600@glencoveny.gov
SUMMARY:Zoning Board of Appeals
DESCRIPTION:
URL:https://glencoveny.gov/event/zoning-board-of-appeals-11
CATEGORIES:ZBA
END:VEVENT
BEGIN:VEVENT
DTSTART;TZID=America/New_York:20250722T173000
DTEND;TZID=America/New_York:20250722T183000
DTSTAMP:20260422T033322
CREATED:20250321T164501Z
LAST-MODIFIED:20250714T165747Z
UID:10001241-1753205400-1753209000@glencoveny.gov
SUMMARY:CDA/IDA/LEAC Board Meeting – Cancelled
DESCRIPTION:
URL:https://glencoveny.gov/event/ida-leac-board-meeting-7
CATEGORIES:IDA/LEAC
END:VEVENT
BEGIN:VEVENT
DTSTART;TZID=America/New_York:20250722T193000
DTEND;TZID=America/New_York:20250722T203000
DTSTAMP:20260422T033322
CREATED:20241230T152327Z
LAST-MODIFIED:20250101T011616Z
UID:10001150-1753212600-1753216200@glencoveny.gov
SUMMARY:Council Meeting
DESCRIPTION:
URL:https://glencoveny.gov/event/council-meeting-34
CATEGORIES:City Council
END:VEVENT
END:VCALENDAR