BEGIN:VCALENDAR
VERSION:2.0
PRODID:-//City of Glen Cove - ECPv6.15.17.1//NONSGML v1.0//EN
CALSCALE:GREGORIAN
METHOD:PUBLISH
X-WR-CALNAME:City of Glen Cove
X-ORIGINAL-URL:https://glencoveny.gov
X-WR-CALDESC:Events for City of Glen Cove
REFRESH-INTERVAL;VALUE=DURATION:PT1H
X-Robots-Tag:noindex
X-PUBLISHED-TTL:PT1H
BEGIN:VTIMEZONE
TZID:America/New_York
BEGIN:DAYLIGHT
TZOFFSETFROM:-0500
TZOFFSETTO:-0400
TZNAME:EDT
DTSTART:20240310T070000
END:DAYLIGHT
BEGIN:STANDARD
TZOFFSETFROM:-0400
TZOFFSETTO:-0500
TZNAME:EST
DTSTART:20241103T060000
END:STANDARD
BEGIN:DAYLIGHT
TZOFFSETFROM:-0500
TZOFFSETTO:-0400
TZNAME:EDT
DTSTART:20250309T070000
END:DAYLIGHT
BEGIN:STANDARD
TZOFFSETFROM:-0400
TZOFFSETTO:-0500
TZNAME:EST
DTSTART:20251102T060000
END:STANDARD
BEGIN:DAYLIGHT
TZOFFSETFROM:-0500
TZOFFSETTO:-0400
TZNAME:EDT
DTSTART:20260308T070000
END:DAYLIGHT
BEGIN:STANDARD
TZOFFSETFROM:-0400
TZOFFSETTO:-0500
TZNAME:EST
DTSTART:20261101T060000
END:STANDARD
END:VTIMEZONE
BEGIN:VEVENT
DTSTART;VALUE=DATE:20250901
DTEND;VALUE=DATE:20250902
DTSTAMP:20260422T063542
CREATED:20241206T172215Z
LAST-MODIFIED:20250116T164650Z
UID:10001111-1756684800-1756771199@glencoveny.gov
SUMMARY:Labor Day
DESCRIPTION:City Hall is closed. 
URL:https://glencoveny.gov/event/labor-day-2
CATEGORIES:Holiday
END:VEVENT
BEGIN:VEVENT
DTSTART;TZID=America/New_York:20250902T193000
DTEND;TZID=America/New_York:20250902T203000
DTSTAMP:20260422T063542
CREATED:20250827T150309Z
LAST-MODIFIED:20250827T150309Z
UID:10001276-1756841400-1756845000@glencoveny.gov
SUMMARY:Planning Board Meeting- CANCELED
DESCRIPTION:
URL:https://glencoveny.gov/event/planning-board-meeting-canceled-3
CATEGORIES:Planning Board
END:VEVENT
BEGIN:VEVENT
DTSTART;TZID=America/New_York:20250916T183000
DTEND;TZID=America/New_York:20250916T190000
DTSTAMP:20260422T063542
CREATED:20241230T150535Z
LAST-MODIFIED:20241230T150535Z
UID:10001132-1758047400-1758049200@glencoveny.gov
SUMMARY:Pre-Council Meeting
DESCRIPTION:
URL:https://glencoveny.gov/event/pre-council-meeting-43
CATEGORIES:City Council
END:VEVENT
BEGIN:VEVENT
DTSTART;TZID=America/New_York:20250916T193000
DTEND;TZID=America/New_York:20250916T203000
DTSTAMP:20260422T063542
CREATED:20250827T192953Z
LAST-MODIFIED:20250910T134717Z
UID:10001277-1758051000-1758054600@glencoveny.gov
SUMMARY:Planning Board Meeting
DESCRIPTION:
URL:https://glencoveny.gov/event/planning-board-meeting-canceled-4
CATEGORIES:Planning Board
END:VEVENT
BEGIN:VEVENT
DTSTART;TZID=America/New_York:20250918T193000
DTEND;TZID=America/New_York:20250918T193000
DTSTAMP:20260422T063542
CREATED:20241205T192343Z
LAST-MODIFIED:20241205T192343Z
UID:10000957-1758223800-1758223800@glencoveny.gov
SUMMARY:Zoning Board of Appeals
DESCRIPTION:
URL:https://glencoveny.gov/event/zoning-board-of-appeals-13
CATEGORIES:ZBA
END:VEVENT
BEGIN:VEVENT
DTSTART;TZID=America/New_York:20250924T170000
DTEND;TZID=America/New_York:20250924T174500
DTSTAMP:20260422T063542
CREATED:20250924T160404Z
LAST-MODIFIED:20250924T160404Z
UID:10001284-1758733200-1758735900@glencoveny.gov
SUMMARY:CDA Board Meeting
DESCRIPTION:Please note there is a board meeting of the CDA on Wednesday\, Sept. 24 from 5:00 pm – 5:45 pm in the 2nd floor conference room. 
URL:https://glencoveny.gov/event/cda-board-meeting-8
CATEGORIES:CDA
END:VEVENT
BEGIN:VEVENT
DTSTART;TZID=America/New_York:20250924T174500
DTEND;TZID=America/New_York:20250924T184500
DTSTAMP:20260422T063542
CREATED:20250321T164706Z
LAST-MODIFIED:20250321T164706Z
UID:10001244-1758735900-1758739500@glencoveny.gov
SUMMARY:IDA/LEAC Board Meeting
DESCRIPTION:
URL:https://glencoveny.gov/event/ida-leac-board-meeting-8
CATEGORIES:IDA/LEAC
END:VEVENT
BEGIN:VEVENT
DTSTART;TZID=America/New_York:20250924T193000
DTEND;TZID=America/New_York:20250924T203000
DTSTAMP:20260422T063542
CREATED:20241230T152544Z
LAST-MODIFIED:20250101T011446Z
UID:10001152-1758742200-1758745800@glencoveny.gov
SUMMARY:Council Meeting
DESCRIPTION:
URL:https://glencoveny.gov/event/council-meeting-36
CATEGORIES:City Council
END:VEVENT
END:VCALENDAR