BEGIN:VCALENDAR
VERSION:2.0
PRODID:-//City of Glen Cove - ECPv6.15.17.1//NONSGML v1.0//EN
CALSCALE:GREGORIAN
METHOD:PUBLISH
X-ORIGINAL-URL:https://glencoveny.gov
X-WR-CALDESC:Events for City of Glen Cove
REFRESH-INTERVAL;VALUE=DURATION:PT1H
X-Robots-Tag:noindex
X-PUBLISHED-TTL:PT1H
BEGIN:VTIMEZONE
TZID:America/New_York
BEGIN:DAYLIGHT
TZOFFSETFROM:-0500
TZOFFSETTO:-0400
TZNAME:EDT
DTSTART:20250309T070000
END:DAYLIGHT
BEGIN:STANDARD
TZOFFSETFROM:-0400
TZOFFSETTO:-0500
TZNAME:EST
DTSTART:20251102T060000
END:STANDARD
BEGIN:DAYLIGHT
TZOFFSETFROM:-0500
TZOFFSETTO:-0400
TZNAME:EDT
DTSTART:20260308T070000
END:DAYLIGHT
BEGIN:STANDARD
TZOFFSETFROM:-0400
TZOFFSETTO:-0500
TZNAME:EST
DTSTART:20261101T060000
END:STANDARD
BEGIN:DAYLIGHT
TZOFFSETFROM:-0500
TZOFFSETTO:-0400
TZNAME:EDT
DTSTART:20270314T070000
END:DAYLIGHT
BEGIN:STANDARD
TZOFFSETFROM:-0400
TZOFFSETTO:-0500
TZNAME:EST
DTSTART:20271107T060000
END:STANDARD
END:VTIMEZONE
BEGIN:VEVENT
DTSTART;VALUE=DATE:20260704
DTEND;VALUE=DATE:20260705
DTSTAMP:20260421T062004
CREATED:20251225T142043Z
LAST-MODIFIED:20251225T142043Z
UID:10001313-1783123200-1783209599@glencoveny.gov
SUMMARY:Independence Day
DESCRIPTION:
URL:https://glencoveny.gov/event/independence-day-3
CATEGORIES:Holiday
END:VEVENT
BEGIN:VEVENT
DTSTART;TZID=America/New_York:20260707T193000
DTEND;TZID=America/New_York:20260707T193000
DTSTAMP:20260421T062004
CREATED:20260108T002041Z
LAST-MODIFIED:20260108T002110Z
UID:10001391-1783452600-1783452600@glencoveny.gov
SUMMARY:Planning Board Meeting
DESCRIPTION:
URL:https://glencoveny.gov/event/planning-board-meeting-52
CATEGORIES:Planning Board
END:VEVENT
BEGIN:VEVENT
DTSTART;TZID=America/New_York:20260716T193000
DTEND;TZID=America/New_York:20260716T193000
DTSTAMP:20260421T062004
CREATED:20260107T231427Z
LAST-MODIFIED:20260107T232219Z
UID:10001371-1784230200-1784230200@glencoveny.gov
SUMMARY:Zoning Board of Appeals Meeting
DESCRIPTION:
URL:https://glencoveny.gov/event/zoning-board-of-appeals-23
CATEGORIES:ZBA
END:VEVENT
BEGIN:VEVENT
DTSTART;TZID=America/New_York:20260717T193000
DTEND;TZID=America/New_York:20260717T193000
DTSTAMP:20260421T062004
CREATED:20260108T002041Z
LAST-MODIFIED:20260108T002110Z
UID:10001390-1784316600-1784316600@glencoveny.gov
SUMMARY:Planning Board Meeting
DESCRIPTION:
URL:https://glencoveny.gov/event/planning-board-meeting-52
CATEGORIES:Planning Board
END:VEVENT
BEGIN:VEVENT
DTSTART;TZID=America/New_York:20260721T183000
DTEND;TZID=America/New_York:20260721T200000
DTSTAMP:20260421T062004
CREATED:20260102T163115Z
LAST-MODIFIED:20260102T163115Z
UID:10001331-1784658600-1784664000@glencoveny.gov
SUMMARY:Pre-Council Meeting
DESCRIPTION:
URL:https://glencoveny.gov/event/pre-council-meeting-61
CATEGORIES:Meetings
END:VEVENT
BEGIN:VEVENT
DTSTART;TZID=America/New_York:20260721T193000
DTEND;TZID=America/New_York:20260721T193000
DTSTAMP:20260421T062004
CREATED:20260108T002136Z
LAST-MODIFIED:20260108T002136Z
UID:10001392-1784662200-1784662200@glencoveny.gov
SUMMARY:Planning Board Meeting
DESCRIPTION:
URL:https://glencoveny.gov/event/planning-board-meeting-53
CATEGORIES:Planning Board
END:VEVENT
BEGIN:VEVENT
DTSTART;TZID=America/New_York:20260728T193000
DTEND;TZID=America/New_York:20260728T200000
DTSTAMP:20260421T062004
CREATED:20260102T164717Z
LAST-MODIFIED:20260102T164717Z
UID:10001354-1785267000-1785268800@glencoveny.gov
SUMMARY:City Council Meeting
DESCRIPTION:
URL:https://glencoveny.gov/event/city-council-meeting-25
CATEGORIES:City Council
END:VEVENT
END:VCALENDAR