BEGIN:VCALENDAR
VERSION:2.0
PRODID:-//City of Glen Cove - ECPv6.15.17.1//NONSGML v1.0//EN
CALSCALE:GREGORIAN
METHOD:PUBLISH
X-ORIGINAL-URL:https://glencoveny.gov
X-WR-CALDESC:Events for City of Glen Cove
REFRESH-INTERVAL;VALUE=DURATION:PT1H
X-Robots-Tag:noindex
X-PUBLISHED-TTL:PT1H
BEGIN:VTIMEZONE
TZID:America/New_York
BEGIN:DAYLIGHT
TZOFFSETFROM:-0500
TZOFFSETTO:-0400
TZNAME:EDT
DTSTART:20250309T070000
END:DAYLIGHT
BEGIN:STANDARD
TZOFFSETFROM:-0400
TZOFFSETTO:-0500
TZNAME:EST
DTSTART:20251102T060000
END:STANDARD
BEGIN:DAYLIGHT
TZOFFSETFROM:-0500
TZOFFSETTO:-0400
TZNAME:EDT
DTSTART:20260308T070000
END:DAYLIGHT
BEGIN:STANDARD
TZOFFSETFROM:-0400
TZOFFSETTO:-0500
TZNAME:EST
DTSTART:20261101T060000
END:STANDARD
BEGIN:DAYLIGHT
TZOFFSETFROM:-0500
TZOFFSETTO:-0400
TZNAME:EDT
DTSTART:20270314T070000
END:DAYLIGHT
BEGIN:STANDARD
TZOFFSETFROM:-0400
TZOFFSETTO:-0500
TZNAME:EST
DTSTART:20271107T060000
END:STANDARD
END:VTIMEZONE
BEGIN:VEVENT
DTSTART;TZID=America/New_York:20260901T193000
DTEND;TZID=America/New_York:20260901T193000
DTSTAMP:20260421T092122
CREATED:20260108T002326Z
LAST-MODIFIED:20260108T002326Z
UID:10001395-1788291000-1788291000@glencoveny.gov
SUMMARY:Planning Board Meeting
DESCRIPTION:
URL:https://glencoveny.gov/event/planning-board-meeting-56
CATEGORIES:Planning Board
END:VEVENT
BEGIN:VEVENT
DTSTART;VALUE=DATE:20260907
DTEND;VALUE=DATE:20260908
DTSTAMP:20260421T092122
CREATED:20251225T142115Z
LAST-MODIFIED:20251225T142115Z
UID:10001314-1788739200-1788825599@glencoveny.gov
SUMMARY:Labor Day
DESCRIPTION:
URL:https://glencoveny.gov/event/labor-day-3
CATEGORIES:Holiday
END:VEVENT
BEGIN:VEVENT
DTSTART;TZID=America/New_York:20260915T183000
DTEND;TZID=America/New_York:20260915T200000
DTSTAMP:20260421T092123
CREATED:20260102T163220Z
LAST-MODIFIED:20260102T163220Z
UID:10001333-1789497000-1789502400@glencoveny.gov
SUMMARY:Pre-Council Meeting
DESCRIPTION:
URL:https://glencoveny.gov/event/pre-council-meeting-63
CATEGORIES:Meetings
END:VEVENT
BEGIN:VEVENT
DTSTART;TZID=America/New_York:20260915T193000
DTEND;TZID=America/New_York:20260915T193000
DTSTAMP:20260421T092123
CREATED:20260108T002344Z
LAST-MODIFIED:20260108T002344Z
UID:10001396-1789500600-1789500600@glencoveny.gov
SUMMARY:Planning Board Meeting
DESCRIPTION:
URL:https://glencoveny.gov/event/planning-board-meeting-57
CATEGORIES:Planning Board
END:VEVENT
BEGIN:VEVENT
DTSTART;TZID=America/New_York:20260917T193000
DTEND;TZID=America/New_York:20260917T193000
DTSTAMP:20260421T092123
CREATED:20260107T231559Z
LAST-MODIFIED:20260107T232307Z
UID:10001374-1789673400-1789673400@glencoveny.gov
SUMMARY:Zoning Board of Appeals Meeting
DESCRIPTION:
URL:https://glencoveny.gov/event/zoning-board-of-appeals-25
CATEGORIES:ZBA
END:VEVENT
BEGIN:VEVENT
DTSTART;TZID=America/New_York:20260922T193000
DTEND;TZID=America/New_York:20260922T200000
DTSTAMP:20260421T092123
CREATED:20260102T164801Z
LAST-MODIFIED:20260102T164801Z
UID:10001356-1790105400-1790107200@glencoveny.gov
SUMMARY:City Council Meeting
DESCRIPTION:
URL:https://glencoveny.gov/event/city-council-meeting-27
CATEGORIES:City Council
END:VEVENT
END:VCALENDAR