BEGIN:VCALENDAR
VERSION:2.0
PRODID:-//City of Glen Cove - ECPv6.15.17.1//NONSGML v1.0//EN
CALSCALE:GREGORIAN
METHOD:PUBLISH
X-ORIGINAL-URL:https://glencoveny.gov
X-WR-CALDESC:Events for City of Glen Cove
REFRESH-INTERVAL;VALUE=DURATION:PT1H
X-Robots-Tag:noindex
X-PUBLISHED-TTL:PT1H
BEGIN:VTIMEZONE
TZID:America/New_York
BEGIN:DAYLIGHT
TZOFFSETFROM:-0500
TZOFFSETTO:-0400
TZNAME:EDT
DTSTART:20250309T070000
END:DAYLIGHT
BEGIN:STANDARD
TZOFFSETFROM:-0400
TZOFFSETTO:-0500
TZNAME:EST
DTSTART:20251102T060000
END:STANDARD
BEGIN:DAYLIGHT
TZOFFSETFROM:-0500
TZOFFSETTO:-0400
TZNAME:EDT
DTSTART:20260308T070000
END:DAYLIGHT
BEGIN:STANDARD
TZOFFSETFROM:-0400
TZOFFSETTO:-0500
TZNAME:EST
DTSTART:20261101T060000
END:STANDARD
BEGIN:DAYLIGHT
TZOFFSETFROM:-0500
TZOFFSETTO:-0400
TZNAME:EDT
DTSTART:20270314T070000
END:DAYLIGHT
BEGIN:STANDARD
TZOFFSETFROM:-0400
TZOFFSETTO:-0500
TZNAME:EST
DTSTART:20271107T060000
END:STANDARD
END:VTIMEZONE
BEGIN:VEVENT
DTSTART;TZID=America/New_York:20261201T183000
DTEND;TZID=America/New_York:20261201T200000
DTSTAMP:20260421T151905
CREATED:20260102T163611Z
LAST-MODIFIED:20260102T163611Z
UID:10001338-1796149800-1796155200@glencoveny.gov
SUMMARY:Pre-Council Meeting
DESCRIPTION:
URL:https://glencoveny.gov/event/pre-council-meeting-68
CATEGORIES:Meetings
END:VEVENT
BEGIN:VEVENT
DTSTART;TZID=America/New_York:20261201T193000
DTEND;TZID=America/New_York:20261201T193000
DTSTAMP:20260421T151905
CREATED:20260108T002530Z
LAST-MODIFIED:20260108T002530Z
UID:10001401-1796153400-1796153400@glencoveny.gov
SUMMARY:Planning Board Meeting
DESCRIPTION:
URL:https://glencoveny.gov/event/planning-board-meeting-62
CATEGORIES:Planning Board
END:VEVENT
BEGIN:VEVENT
DTSTART;TZID=America/New_York:20261208T193000
DTEND;TZID=America/New_York:20261208T200000
DTSTAMP:20260421T151905
CREATED:20260102T165000Z
LAST-MODIFIED:20260102T165000Z
UID:10001361-1796758200-1796760000@glencoveny.gov
SUMMARY:City Council Meeting
DESCRIPTION:
URL:https://glencoveny.gov/event/city-council-meeting-32
CATEGORIES:City Council
END:VEVENT
BEGIN:VEVENT
DTSTART;TZID=America/New_York:20261215T183000
DTEND;TZID=America/New_York:20261215T200000
DTSTAMP:20260421T151905
CREATED:20260102T163633Z
LAST-MODIFIED:20260102T163633Z
UID:10001339-1797359400-1797364800@glencoveny.gov
SUMMARY:Pre-Council Meeting
DESCRIPTION:
URL:https://glencoveny.gov/event/pre-council-meeting-69
CATEGORIES:Meetings
END:VEVENT
BEGIN:VEVENT
DTSTART;TZID=America/New_York:20261215T193000
DTEND;TZID=America/New_York:20261215T193000
DTSTAMP:20260421T151905
CREATED:20260108T002550Z
LAST-MODIFIED:20260108T002550Z
UID:10001402-1797363000-1797363000@glencoveny.gov
SUMMARY:Planning Board Meeting
DESCRIPTION:
URL:https://glencoveny.gov/event/planning-board-meeting-63
CATEGORIES:Planning Board
END:VEVENT
BEGIN:VEVENT
DTSTART;TZID=America/New_York:20261217T193000
DTEND;TZID=America/New_York:20261217T193000
DTSTAMP:20260421T151905
CREATED:20260107T231709Z
LAST-MODIFIED:20260107T232417Z
UID:10001377-1797535800-1797535800@glencoveny.gov
SUMMARY:Zoning Board of Appeals Meeting
DESCRIPTION:
URL:https://glencoveny.gov/event/zoning-board-of-appeals-28
CATEGORIES:ZBA
END:VEVENT
BEGIN:VEVENT
DTSTART;TZID=America/New_York:20261222T193000
DTEND;TZID=America/New_York:20261222T200000
DTSTAMP:20260421T151905
CREATED:20260102T165022Z
LAST-MODIFIED:20260102T165022Z
UID:10001362-1797967800-1797969600@glencoveny.gov
SUMMARY:City Council Meeting
DESCRIPTION:
URL:https://glencoveny.gov/event/city-council-meeting-33
CATEGORIES:City Council
END:VEVENT
BEGIN:VEVENT
DTSTART;VALUE=DATE:20261225
DTEND;VALUE=DATE:20261226
DTSTAMP:20260421T151905
CREATED:20251225T142345Z
LAST-MODIFIED:20251225T142345Z
UID:10001319-1798156800-1798243199@glencoveny.gov
SUMMARY:Christmas Day
DESCRIPTION:
URL:https://glencoveny.gov/event/christmas-day-3
CATEGORIES:Holiday
END:VEVENT
END:VCALENDAR