BEGIN:VCALENDAR
VERSION:2.0
PRODID:-//City of Glen Cove - ECPv6.15.17.1//NONSGML v1.0//EN
CALSCALE:GREGORIAN
METHOD:PUBLISH
X-ORIGINAL-URL:https://glencoveny.gov
X-WR-CALDESC:Events for City of Glen Cove
REFRESH-INTERVAL;VALUE=DURATION:PT1H
X-Robots-Tag:noindex
X-PUBLISHED-TTL:PT1H
BEGIN:VTIMEZONE
TZID:America/New_York
BEGIN:DAYLIGHT
TZOFFSETFROM:-0500
TZOFFSETTO:-0400
TZNAME:EDT
DTSTART:20230312T070000
END:DAYLIGHT
BEGIN:STANDARD
TZOFFSETFROM:-0400
TZOFFSETTO:-0500
TZNAME:EST
DTSTART:20231105T060000
END:STANDARD
BEGIN:DAYLIGHT
TZOFFSETFROM:-0500
TZOFFSETTO:-0400
TZNAME:EDT
DTSTART:20240310T070000
END:DAYLIGHT
BEGIN:STANDARD
TZOFFSETFROM:-0400
TZOFFSETTO:-0500
TZNAME:EST
DTSTART:20241103T060000
END:STANDARD
BEGIN:DAYLIGHT
TZOFFSETFROM:-0500
TZOFFSETTO:-0400
TZNAME:EDT
DTSTART:20250309T070000
END:DAYLIGHT
BEGIN:STANDARD
TZOFFSETFROM:-0400
TZOFFSETTO:-0500
TZNAME:EST
DTSTART:20251102T060000
END:STANDARD
END:VTIMEZONE
BEGIN:VEVENT
DTSTART;TZID=America/New_York:20241008T180000
DTEND;TZID=America/New_York:20241008T180000
DTSTAMP:20260423T062722
CREATED:20241001T183806Z
LAST-MODIFIED:20241001T184007Z
UID:10000932-1728410400-1728410400@glencoveny.gov
SUMMARY:Cancelled - CDA Meeting
DESCRIPTION:Please be advised that the Glen Cove Community Development Agency regularly scheduled board meeting\non Tuesday\, 10/8/24 is CANCELLED. \nThe next regularly scheduled CDA board meeting is Tuesday\, 11/26/24 at 6:00 P.M. Should the need arise\nto schedule a special meeting prior to that time\, we will poll the CDA board members for a mutually\nconvenient date. \nThank you for your cooperation.
URL:https://glencoveny.gov/event/cda-meeting-4
LOCATION:City Hall Main Chambers
CATEGORIES:CDA
END:VEVENT
END:VCALENDAR